BEGIN:VCALENDAR
VERSION:2.0
PRODID:-//Technology at MSU - ECPv5.16.3.1//NONSGML v1.0//EN
CALSCALE:GREGORIAN
METHOD:PUBLISH
X-WR-CALNAME:Technology at MSU
X-ORIGINAL-URL:https://tech.msu.edu
X-WR-CALDESC:Events for Technology at MSU
BEGIN:VTIMEZONE
TZID:America/Halifax
BEGIN:DAYLIGHT
TZOFFSETFROM:-0400
TZOFFSETTO:-0300
TZNAME:ADT
DTSTART:20200308T060000
END:DAYLIGHT
BEGIN:STANDARD
TZOFFSETFROM:-0300
TZOFFSETTO:-0400
TZNAME:AST
DTSTART:20201101T050000
END:STANDARD
END:VTIMEZONE
BEGIN:VEVENT
DTSTART;TZID=America/Halifax:20200828T090000
DTEND;TZID=America/Halifax:20200828T163000
DTSTAMP:20260425T090356
CREATED:20200821T202053Z
LAST-MODIFIED:20200821T202053Z
UID:24002-1598605200-1598632200@tech.msu.edu
SUMMARY:Academic Technology Online Readiness Webinar: Day 5
DESCRIPTION:Friday\, August 28\n9–10 a.m. Collaboration—Teams / Google Docs / O365 | Hosts: Breana Yaklin\, Jess Knott\, and Jeremy Van Hof\nZoom Meeting ID: 950 8694 2139 | Passcode: Technology \n1–2 p.m. Open Office Hours with the Broad College Learning and Technology Design Team \nZoom Meeting ID: 965 5220 1782 | Passcode: BroadLTD \n1:30–3:30 p.m. D2L Orientation | Host: Susan Halick \n3:30–4:30 p.m. Assessment Ideas for Online Courses | Host: Jeremy Van Hof\nZoom Meeting ID: 950 8694 2139 | Passcode: Technology \nShare:
URL:https://tech.msu.edu/event/academic-technology-online-readiness-webinar-day-5/
CATEGORIES:Webinar
END:VEVENT
END:VCALENDAR