BEGIN:VCALENDAR
VERSION:2.0
PRODID:-//Technology at MSU - ECPv5.16.3.1//NONSGML v1.0//EN
CALSCALE:GREGORIAN
METHOD:PUBLISH
X-WR-CALNAME:Technology at MSU
X-ORIGINAL-URL:https://tech.msu.edu
X-WR-CALDESC:Events for Technology at MSU
BEGIN:VTIMEZONE
TZID:America/Halifax
BEGIN:DAYLIGHT
TZOFFSETFROM:-0400
TZOFFSETTO:-0300
TZNAME:ADT
DTSTART:20250309T060000
END:DAYLIGHT
BEGIN:STANDARD
TZOFFSETFROM:-0300
TZOFFSETTO:-0400
TZNAME:AST
DTSTART:20251102T050000
END:STANDARD
END:VTIMEZONE
BEGIN:VEVENT
DTSTART;TZID=America/Halifax:20250218T110000
DTEND;TZID=America/Halifax:20250218T140000
DTSTAMP:20260425T184222
CREATED:20250214T164445Z
LAST-MODIFIED:20250214T165111Z
UID:36040-1739876400-1739887200@tech.msu.edu
SUMMARY:Cyber Goose Visits 1855 Place
DESCRIPTION:Meet and take a selfie with Cyber Goose at 1855 Place from 11 a.m. to 2 p.m. Pick up a free t-shirt and Cyber Goose stickers. 1855 Place is at 550 S. Harrison Road East Lansing\, MI 48823 \nShare:
URL:https://tech.msu.edu/event/cyber-goose-visits-1855-place/
CATEGORIES:General
END:VEVENT
END:VCALENDAR