BEGIN:VCALENDAR
VERSION:2.0
PRODID:-//Technology at MSU - ECPv5.16.3.1//NONSGML v1.0//EN
CALSCALE:GREGORIAN
METHOD:PUBLISH
X-WR-CALNAME:Technology at MSU
X-ORIGINAL-URL:https://tech.msu.edu
X-WR-CALDESC:Events for Technology at MSU
BEGIN:VTIMEZONE
TZID:America/Halifax
BEGIN:DAYLIGHT
TZOFFSETFROM:-0400
TZOFFSETTO:-0300
TZNAME:ADT
DTSTART:20150308T060000
END:DAYLIGHT
BEGIN:STANDARD
TZOFFSETFROM:-0300
TZOFFSETTO:-0400
TZNAME:AST
DTSTART:20151101T050000
END:STANDARD
END:VTIMEZONE
BEGIN:VEVENT
DTSTART;TZID=America/Halifax:20150923T150000
DTEND;TZID=America/Halifax:20150923T170000
DTSTAMP:20260424T210554
CREATED:20150806T171119Z
LAST-MODIFIED:20160107T135311Z
UID:10232-1443020400-1443027600@tech.msu.edu
SUMMARY:IT Exchange Meeting
DESCRIPTION:Agenda\nJoe Zanchetta\, Cisco: Technical Introduction to the Cisco Unified Computing System\n(PDF presentation) (recording of this presentation at 00:03:40) \nSteve Oakley\, Dell: Software-Defined Data Center\n(PDF presentation) (recording of this presentation at 00:34:16) \nNate Evans\, MSU IT Services Teaching and Learning Technology: Web Accessibility at MSU\n(PDF presentation) (recording of this presentation at 01:03:40) \nDoug Merrion\, VMware: VMWare Digital Backpack Solution\n(PDF presentation) (recording of this presentation at 01:21:25) \nShare:
URL:https://tech.msu.edu/event/it-exchange-meeting-2015-sept-23/
LOCATION:MSU Union\, 2nd Floor Ballroom\, 49 Abbot Road\, East Lansing\, 48824\, United States
CATEGORIES:General
GEO:42.7341101;-84.4828831
X-APPLE-STRUCTURED-LOCATION;VALUE=URI;X-ADDRESS=MSU Union 2nd Floor Ballroom 49 Abbot Road East Lansing 48824 United States;X-APPLE-RADIUS=500;X-TITLE=49 Abbot Road:geo:-84.4828831,42.7341101
END:VEVENT
END:VCALENDAR