BEGIN:VCALENDAR
VERSION:2.0
PRODID:-//Technology at MSU - ECPv5.16.3.1//NONSGML v1.0//EN
CALSCALE:GREGORIAN
METHOD:PUBLISH
X-WR-CALNAME:Technology at MSU
X-ORIGINAL-URL:https://tech.msu.edu
X-WR-CALDESC:Events for Technology at MSU
BEGIN:VTIMEZONE
TZID:America/Halifax
BEGIN:DAYLIGHT
TZOFFSETFROM:-0400
TZOFFSETTO:-0300
TZNAME:ADT
DTSTART:20220313T060000
END:DAYLIGHT
BEGIN:STANDARD
TZOFFSETFROM:-0300
TZOFFSETTO:-0400
TZNAME:AST
DTSTART:20221106T050000
END:STANDARD
END:VTIMEZONE
BEGIN:VEVENT
DTSTART;TZID=America/Halifax:20220719T100000
DTEND;TZID=America/Halifax:20220719T110000
DTSTAMP:20260421T005646
CREATED:20220610T203155Z
LAST-MODIFIED:20220610T203155Z
UID:26752-1658224800-1658228400@tech.msu.edu
SUMMARY:Microsoft Teams - Meetings
DESCRIPTION:Schedule\, run\, and record a meeting with Teams \nUtilize breakout rooms: prepare for a session and manage rooms as the meeting organizer\nRegister for upcoming live courses at SpartansLearn. For the complete catalog of IT videos\, e-learning\, and web-based training\, visit the Learning Library.\n\nShare:
URL:https://tech.msu.edu/event/microsoft-teams-meetings/
CATEGORIES:Webinar
END:VEVENT
END:VCALENDAR