BEGIN:VCALENDAR
VERSION:2.0
PRODID:-//Technology at MSU - ECPv5.16.3.1//NONSGML v1.0//EN
CALSCALE:GREGORIAN
METHOD:PUBLISH
X-WR-CALNAME:Technology at MSU
X-ORIGINAL-URL:https://tech.msu.edu
X-WR-CALDESC:Events for Technology at MSU
BEGIN:VTIMEZONE
TZID:America/Halifax
BEGIN:DAYLIGHT
TZOFFSETFROM:-0400
TZOFFSETTO:-0300
TZNAME:ADT
DTSTART:20220313T060000
END:DAYLIGHT
BEGIN:STANDARD
TZOFFSETFROM:-0300
TZOFFSETTO:-0400
TZNAME:AST
DTSTART:20221106T050000
END:STANDARD
END:VTIMEZONE
BEGIN:VEVENT
DTSTART;TZID=America/Halifax:20220810T100000
DTEND;TZID=America/Halifax:20220810T120000
DTSTAMP:20260420T113358
CREATED:20220803T133903Z
LAST-MODIFIED:20220803T133903Z
UID:26900-1660125600-1660132800@tech.msu.edu
SUMMARY:OneNote - Special Notebooks
DESCRIPTION:Share:
URL:https://tech.msu.edu/event/onenote-special-notebooks-3/
CATEGORIES:Webinar
END:VEVENT
END:VCALENDAR