BEGIN:VCALENDAR
VERSION:2.0
PRODID:-//Technology at MSU - ECPv5.16.3.1//NONSGML v1.0//EN
CALSCALE:GREGORIAN
METHOD:PUBLISH
X-WR-CALNAME:Technology at MSU
X-ORIGINAL-URL:https://tech.msu.edu
X-WR-CALDESC:Events for Technology at MSU
BEGIN:VTIMEZONE
TZID:America/Halifax
BEGIN:DAYLIGHT
TZOFFSETFROM:-0400
TZOFFSETTO:-0300
TZNAME:ADT
DTSTART:20220313T060000
END:DAYLIGHT
BEGIN:STANDARD
TZOFFSETFROM:-0300
TZOFFSETTO:-0400
TZNAME:AST
DTSTART:20221106T050000
END:STANDARD
END:VTIMEZONE
BEGIN:VEVENT
DTSTART;TZID=America/Halifax:20220202T100000
DTEND;TZID=America/Halifax:20220202T120000
DTSTAMP:20260421T152831
CREATED:20220120T173220Z
LAST-MODIFIED:20220803T135644Z
UID:26177-1643796000-1643803200@tech.msu.edu
SUMMARY:Teams - SharePoint Site
DESCRIPTION:Prerequisite \nTeams – Getting Started \nDescription \nA live Virtual Instructor-Led training session that will examine the Teams SharePoint site. Learn about accessibility and explore how to upload\, share\, and sync documents; add and edit site pages; and create lists. The modern experience in SharePoint is designed to be compelling\, flexible and faster\, making it easier for anyone to create beautiful\, dynamic sites and pages that are mobile-ready. \nOutcome \nAt the end of this course participants will understand the purpose of the Teams SharePoint Site\, along with creating site pages and using lists. Participants will also be able to create additional document libraries\, along with adding and removing navigation items. \n  \nRegister at: https://spartanslearn.msu.edu/course-listing/index.html \nShare:
URL:https://tech.msu.edu/event/teams-sharepoint-site/2022-02-02/
END:VEVENT
END:VCALENDAR