BEGIN:VCALENDAR
VERSION:2.0
PRODID:-//Technology at MSU - ECPv5.16.3.1//NONSGML v1.0//EN
CALSCALE:GREGORIAN
METHOD:PUBLISH
X-WR-CALNAME:Technology at MSU
X-ORIGINAL-URL:https://tech.msu.edu
X-WR-CALDESC:Events for Technology at MSU
BEGIN:VTIMEZONE
TZID:America/Halifax
BEGIN:DAYLIGHT
TZOFFSETFROM:-0400
TZOFFSETTO:-0300
TZNAME:ADT
DTSTART:20220313T060000
END:DAYLIGHT
BEGIN:STANDARD
TZOFFSETFROM:-0300
TZOFFSETTO:-0400
TZNAME:AST
DTSTART:20221106T050000
END:STANDARD
END:VTIMEZONE
BEGIN:VEVENT
DTSTART;TZID=America/Halifax:20220707T083000
DTEND;TZID=America/Halifax:20220707T093000
DTSTAMP:20260421T045003
CREATED:20220610T184311Z
LAST-MODIFIED:20220610T201527Z
UID:26726-1657182600-1657186200@tech.msu.edu
SUMMARY:Zoom Meetings: Intermediate Level
DESCRIPTION:Effectively set up and manage breakout rooms\, obtain\, and manage recordings and reports\, configure advanced polls and quizzes\, and understand the best methods for sharing content\nLearn more about 365 virtual instructor-led training here\nRegister for upcoming live courses at SpartansLearn. For the complete catalog of IT videos\, e-learning\, and web-based training\, visit the Learning Library \n\nShare:
URL:https://tech.msu.edu/event/zoom-meetings-intermediate-level-2/
CATEGORIES:Webinar
END:VEVENT
END:VCALENDAR